BEGIN:VCALENDAR
VERSION:2.0
PRODID:-//Squarespace Inc/Squarespace 6//v6//EN
BEGIN:VEVENT
UID:5c401fb6f950b7e303b36949@squarespace.com
DTSTAMP:20190117T063815Z
DTSTART:20190126T003000Z
DTEND:20190126T063000Z
SUMMARY:CRUSH FESTIVAL- MAIN &amp\; CHERRY PICNIC AT THE MANOR
END:VEVENT
END:VCALENDAR
