BEGIN:VCALENDAR
VERSION:2.0
PRODID:-//Squarespace Inc/Squarespace 6//v6//EN
BEGIN:VEVENT
UID:5ad86d81562fa75adba56a80@squarespace.com
DTSTAMP:20180430T001637Z
DTSTART:20180513T023000Z
DTEND:20180513T053000Z
SUMMARY:Mothers Day Luncheon
END:VEVENT
END:VCALENDAR
