BEGIN:VCALENDAR
VERSION:2.0
PRODID:-//Squarespace Inc/Squarespace 6//v6//EN
BEGIN:VEVENT
UID:5b8506f84d7a9ce169bd98cf@squarespace.com
DTSTAMP:20180828T082827Z
DTSTART:20180828T083000Z
DTEND:20181225T083000Z
SUMMARY:Christmas Parties at The Manor
END:VEVENT
END:VCALENDAR
