BEGIN:VCALENDAR
VERSION:2.0
PRODID:-//Squarespace Inc/Squarespace 6//v6//EN
BEGIN:VEVENT
UID:5b152db6758d46f98520eb27@squarespace.com
DTSTAMP:20180604T122830Z
DTSTART:20180728T090000Z
DTEND:20180728T140000Z
SUMMARY:LET THEM DRINK WINE
END:VEVENT
END:VCALENDAR
