BEGIN:VCALENDAR
VERSION:2.0
PRODID:-//Squarespace Inc/Squarespace 6//v6//EN
BEGIN:VEVENT
UID:5b0cd5bf2b6a288855cf3aa5@squarespace.com
DTSTAMP:20180604T121624Z
DTSTART:20180610T083000Z
DTEND:20180610T110000Z
SUMMARY:Murder & Music at The Manor
GEO:-34.94075;138.769017
LOCATION:The Manor Basket Range\, 762 Lobethal Road\, Basket Range\, SA\, 5
 138\, Australia
END:VEVENT
END:VCALENDAR
