BEGIN:VCALENDAR
VERSION:2.0
PRODID:-//Squarespace Inc/Squarespace 6//v6//EN
BEGIN:VEVENT
UID:5b0cd7000e2e723b7491c56b@squarespace.com
DTSTAMP:20180604T121640Z
DTSTART:20180610T033000Z
DTEND:20180610T060000Z
SUMMARY:Murder & Music at The Manor - Luncheon
GEO:-34.940723;138.768057
LOCATION:The Manor Basket Range\, 762 Lobethal Road\, Basket Range\, SA\, 5
 138\, Australia
END:VEVENT
END:VCALENDAR
